BEGIN:VCALENDAR
VERSION:2.0
PRODID:JMS Hockey
X-PUBLISHED-TTL:P1W
BEGIN:VEVENT
UID:69e7d478e3b1a
DTSTART:20160302T024500Z
SEQUENCE:0
TRANSP:OPAQUE
DTEND:20160302T041500Z
URL:http://jmshockey.com/games/8384
LOCATION:Eden Prairie Comm Ctr
SUMMARY:Upper Level Game at Eden Prairie Comm Ctr
CLASS:PUBLIC
DTSTAMP:20260421T144808Z
END:VEVENT
END:VCALENDAR