BEGIN:VCALENDAR
VERSION:2.0
PRODID:JMS Hockey
X-PUBLISHED-TTL:P1W
BEGIN:VEVENT
UID:69e7a3563e5b0
DTSTART:20151221T031000Z
SEQUENCE:0
TRANSP:OPAQUE
DTEND:20151221T044000Z
URL:http://jmshockey.com/games/8357
LOCATION:Hopkins Pavilion
SUMMARY:All level Game at Hopkins Pavilion
CLASS:PUBLIC
DTSTAMP:20260421T111830Z
END:VEVENT
END:VCALENDAR