BEGIN:VCALENDAR
VERSION:2.0
PRODID:JMS Hockey
X-PUBLISHED-TTL:P1W
BEGIN:VEVENT
UID:69e7cb41c2d23
DTSTART:20160129T033000Z
SEQUENCE:0
TRANSP:OPAQUE
DTEND:20160129T050000Z
URL:http://jmshockey.com/games/8353
LOCATION:St Thomas Ice Arena
SUMMARY:All level Game at St Thomas Ice Arena
CLASS:PUBLIC
DTSTAMP:20260421T140849Z
END:VEVENT
END:VCALENDAR