BEGIN:VCALENDAR
VERSION:2.0
PRODID:JMS Hockey
X-PUBLISHED-TTL:P1W
BEGIN:VEVENT
UID:69e7c3cbcd2d5
DTSTART:20160105T035000Z
SEQUENCE:0
TRANSP:OPAQUE
DTEND:20160105T052000Z
URL:http://jmshockey.com/games/8350
LOCATION:St Thomas Ice Arena
SUMMARY:Elite Game at St Thomas Ice Arena
CLASS:PUBLIC
DTSTAMP:20260421T133659Z
END:VEVENT
END:VCALENDAR