BEGIN:VCALENDAR
VERSION:2.0
PRODID:JMS Hockey
X-PUBLISHED-TTL:P1W
BEGIN:VEVENT
UID:69e7a4dd3705e
DTSTART:20160103T040000Z
SEQUENCE:0
TRANSP:OPAQUE
DTEND:20160103T053000Z
URL:http://jmshockey.com/games/8345
LOCATION:St Thomas Ice Arena
SUMMARY:All level Game at St Thomas Ice Arena
CLASS:PUBLIC
DTSTAMP:20260421T112501Z
END:VEVENT
END:VCALENDAR