BEGIN:VCALENDAR
VERSION:2.0
PRODID:JMS Hockey
X-PUBLISHED-TTL:P1W
BEGIN:VEVENT
UID:69e7cb2bb5c57
DTSTART:20160119T173000Z
SEQUENCE:0
TRANSP:OPAQUE
DTEND:20160119T191500Z
URL:http://jmshockey.com/games/8343
LOCATION:Eden Prairie Comm Ctr
SUMMARY:All level Game at Eden Prairie Comm Ctr
CLASS:PUBLIC
DTSTAMP:20260421T140827Z
END:VEVENT
END:VCALENDAR