BEGIN:VCALENDAR
VERSION:2.0
PRODID:JMS Hockey
X-PUBLISHED-TTL:P1W
BEGIN:VEVENT
UID:69e7961d29e38
DTSTART:20160129T033500Z
SEQUENCE:0
TRANSP:OPAQUE
DTEND:20160129T050500Z
URL:http://jmshockey.com/games/8318
LOCATION:Woodbury Bielenberg
SUMMARY:Lower Level Game at Woodbury Bielenberg
CLASS:PUBLIC
DTSTAMP:20260421T102205Z
END:VEVENT
END:VCALENDAR