BEGIN:VCALENDAR
VERSION:2.0
PRODID:JMS Hockey
X-PUBLISHED-TTL:P1W
BEGIN:VEVENT
UID:69e7a78cb9c91
DTSTART:20160127T024500Z
SEQUENCE:0
TRANSP:OPAQUE
DTEND:20160127T041500Z
URL:http://jmshockey.com/games/8311
LOCATION:Eden Prairie Comm Ctr
SUMMARY:Upper Level Game at Eden Prairie Comm Ctr
CLASS:PUBLIC
DTSTAMP:20260421T113628Z
END:VEVENT
END:VCALENDAR