BEGIN:VCALENDAR
VERSION:2.0
PRODID:JMS Hockey
X-PUBLISHED-TTL:P1W
BEGIN:VEVENT
UID:69e7d65578891
DTSTART:20160120T034500Z
SEQUENCE:0
TRANSP:OPAQUE
DTEND:20160120T051500Z
URL:http://jmshockey.com/games/8310
LOCATION:St Louis Park Rec Center
SUMMARY:Intermediate Game at St Louis Park Rec Center
CLASS:PUBLIC
DTSTAMP:20260421T145605Z
END:VEVENT
END:VCALENDAR