BEGIN:VCALENDAR
VERSION:2.0
PRODID:JMS Hockey
X-PUBLISHED-TTL:P1W
BEGIN:VEVENT
UID:69e7b9b6d58d6
DTSTART:20160113T034500Z
SEQUENCE:0
TRANSP:OPAQUE
DTEND:20160113T051500Z
URL:http://jmshockey.com/games/8309
LOCATION:St Louis Park Rec Center
SUMMARY:Intermediate Game at St Louis Park Rec Center
CLASS:PUBLIC
DTSTAMP:20260421T125358Z
END:VEVENT
END:VCALENDAR