BEGIN:VCALENDAR
VERSION:2.0
PRODID:JMS Hockey
X-PUBLISHED-TTL:P1W
BEGIN:VEVENT
UID:69e7b12f18bfa
DTSTART:20151230T034500Z
SEQUENCE:0
TRANSP:OPAQUE
DTEND:20151230T051500Z
URL:http://jmshockey.com/games/8307
LOCATION:St Louis Park Rec Center
SUMMARY:Intermediate Game at St Louis Park Rec Center
CLASS:PUBLIC
DTSTAMP:20260421T121735Z
END:VEVENT
END:VCALENDAR