BEGIN:VCALENDAR
VERSION:2.0
PRODID:JMS Hockey
X-PUBLISHED-TTL:P1W
BEGIN:VEVENT
UID:69e7aec70b013
DTSTART:20160119T033000Z
SEQUENCE:0
TRANSP:OPAQUE
DTEND:20160119T050000Z
URL:http://jmshockey.com/games/8288
LOCATION:Doug Woog Arena (Wakota)
SUMMARY:Lower Level Game at Doug Woog Arena (Wakota)
CLASS:PUBLIC
DTSTAMP:20260421T120719Z
END:VEVENT
END:VCALENDAR