BEGIN:VCALENDAR
VERSION:2.0
PRODID:JMS Hockey
X-PUBLISHED-TTL:P1W
BEGIN:VEVENT
UID:69e795f0ecccb
DTSTART:20151215T033000Z
SEQUENCE:0
TRANSP:OPAQUE
DTEND:20151215T050000Z
URL:http://jmshockey.com/games/8284
LOCATION:Doug Woog Arena (Wakota)
SUMMARY:Lower Level Game at Doug Woog Arena (Wakota)
CLASS:PUBLIC
DTSTAMP:20260421T102120Z
END:VEVENT
END:VCALENDAR