BEGIN:VCALENDAR
VERSION:2.0
PRODID:JMS Hockey
X-PUBLISHED-TTL:P1W
BEGIN:VEVENT
UID:69e7e6a0699aa
DTSTART:20151220T040000Z
SEQUENCE:0
TRANSP:OPAQUE
DTEND:20151220T053000Z
URL:http://jmshockey.com/games/8276
LOCATION:St Thomas Ice Arena
SUMMARY:All level Game at St Thomas Ice Arena
CLASS:PUBLIC
DTSTAMP:20260421T160536Z
END:VEVENT
END:VCALENDAR