BEGIN:VCALENDAR
VERSION:2.0
PRODID:JMS Hockey
X-PUBLISHED-TTL:P1W
BEGIN:VEVENT
UID:69e7e6d5960cd
DTSTART:20151208T034000Z
SEQUENCE:0
TRANSP:OPAQUE
DTEND:20151208T051000Z
URL:http://jmshockey.com/games/8269
LOCATION:St Thomas Ice Arena
SUMMARY:Elite Game at St Thomas Ice Arena
CLASS:PUBLIC
DTSTAMP:20260421T160629Z
END:VEVENT
END:VCALENDAR