BEGIN:VCALENDAR
VERSION:2.0
PRODID:JMS Hockey
X-PUBLISHED-TTL:P1W
BEGIN:VEVENT
UID:69e823631ab7a
DTSTART:20160116T034500Z
SEQUENCE:0
TRANSP:OPAQUE
DTEND:20160116T051500Z
URL:http://jmshockey.com/games/8266
LOCATION:St Louis Park Rec Center
SUMMARY:Upper Level Game at St Louis Park Rec Center
CLASS:PUBLIC
DTSTAMP:20260421T202451Z
END:VEVENT
END:VCALENDAR