BEGIN:VCALENDAR
VERSION:2.0
PRODID:JMS Hockey
X-PUBLISHED-TTL:P1W
BEGIN:VEVENT
UID:69e7cb5993394
DTSTART:20160130T034500Z
SEQUENCE:0
TRANSP:OPAQUE
DTEND:20160130T051500Z
URL:http://jmshockey.com/games/8262
LOCATION:St Louis Park Rec Center
SUMMARY:Upper Level Game at St Louis Park Rec Center
CLASS:PUBLIC
DTSTAMP:20260421T140913Z
END:VEVENT
END:VCALENDAR