BEGIN:VCALENDAR
VERSION:2.0
PRODID:JMS Hockey
X-PUBLISHED-TTL:P1W
BEGIN:VEVENT
UID:69e7adf16a40e
DTSTART:20151209T034500Z
SEQUENCE:0
TRANSP:OPAQUE
DTEND:20151209T051500Z
URL:http://jmshockey.com/games/8259
LOCATION:St Louis Park Rec Center
SUMMARY:Intermediate Game at St Louis Park Rec Center
CLASS:PUBLIC
DTSTAMP:20260421T120345Z
END:VEVENT
END:VCALENDAR