BEGIN:VCALENDAR
VERSION:2.0
PRODID:JMS Hockey
X-PUBLISHED-TTL:P1W
BEGIN:VEVENT
UID:69e7aecc8b7ae
DTSTART:20160114T032000Z
SEQUENCE:0
TRANSP:OPAQUE
DTEND:20160114T045000Z
URL:http://jmshockey.com/games/8256
LOCATION:Phalen Arena
SUMMARY:Upper Level Game at Phalen Arena
CLASS:PUBLIC
DTSTAMP:20260421T120724Z
END:VEVENT
END:VCALENDAR