BEGIN:VCALENDAR
VERSION:2.0
PRODID:JMS Hockey
X-PUBLISHED-TTL:P1W
BEGIN:VEVENT
UID:69e79a11a02c3
DTSTART:20151224T023000Z
SEQUENCE:0
TRANSP:OPAQUE
DTEND:20151224T040000Z
URL:http://jmshockey.com/games/8245
LOCATION:Polar Arena
SUMMARY:Lower Level Game at Polar Arena
CLASS:PUBLIC
DTSTAMP:20260421T103857Z
END:VEVENT
END:VCALENDAR