BEGIN:VCALENDAR
VERSION:2.0
PRODID:JMS Hockey
X-PUBLISHED-TTL:P1W
BEGIN:VEVENT
UID:69e7ba08eb7fc
DTSTART:20151217T023000Z
SEQUENCE:0
TRANSP:OPAQUE
DTEND:20151217T040000Z
URL:http://jmshockey.com/games/8244
LOCATION:Polar Arena
SUMMARY:Lower Level Game at Polar Arena
CLASS:PUBLIC
DTSTAMP:20260421T125520Z
END:VEVENT
END:VCALENDAR