BEGIN:VCALENDAR
VERSION:2.0
PRODID:JMS Hockey
X-PUBLISHED-TTL:P1W
BEGIN:VEVENT
UID:69e79572d14c2
DTSTART:20160128T023000Z
SEQUENCE:0
TRANSP:OPAQUE
DTEND:20160128T040000Z
URL:http://jmshockey.com/games/8242
LOCATION:Polar Arena
SUMMARY:Lower Level Game at Polar Arena
CLASS:PUBLIC
DTSTAMP:20260421T101914Z
END:VEVENT
END:VCALENDAR