BEGIN:VCALENDAR
VERSION:2.0
PRODID:JMS Hockey
X-PUBLISHED-TTL:P1W
BEGIN:VEVENT
UID:69e799fac2a84
DTSTART:20090909T023000Z
SEQUENCE:0
TRANSP:OPAQUE
DTEND:20090909T040000Z
URL:http://jmshockey.com/games/824
LOCATION:Doug Woog Arena (Wakota)
SUMMARY:Level 3 Game at Doug Woog Arena (Wakota)
CLASS:PUBLIC
DTSTAMP:20260421T103834Z
END:VEVENT
END:VCALENDAR