BEGIN:VCALENDAR
VERSION:2.0
PRODID:JMS Hockey
X-PUBLISHED-TTL:P1W
BEGIN:VEVENT
UID:69e776bd0063b
DTSTART:20160130T034500Z
SEQUENCE:0
TRANSP:OPAQUE
DTEND:20160130T051500Z
URL:http://jmshockey.com/games/8236
LOCATION:Parade Ice Gardens
SUMMARY:Novice Game at Parade Ice Gardens
CLASS:PUBLIC
DTSTAMP:20260421T080813Z
END:VEVENT
END:VCALENDAR