BEGIN:VCALENDAR
VERSION:2.0
PRODID:JMS Hockey
X-PUBLISHED-TTL:P1W
BEGIN:VEVENT
UID:69e7a359980a2
DTSTART:20160121T033000Z
SEQUENCE:0
TRANSP:OPAQUE
DTEND:20160121T050000Z
URL:http://jmshockey.com/games/8229
LOCATION:Maple Grove
SUMMARY:Upper Level Game at Maple Grove
CLASS:PUBLIC
DTSTAMP:20260421T111833Z
END:VEVENT
END:VCALENDAR