BEGIN:VCALENDAR
VERSION:2.0
PRODID:JMS Hockey
X-PUBLISHED-TTL:P1W
BEGIN:VEVENT
UID:69e7aeb715392
DTSTART:20151216T041500Z
SEQUENCE:0
TRANSP:OPAQUE
DTEND:20151216T054500Z
URL:http://jmshockey.com/games/8214
LOCATION:Maple Grove
SUMMARY:Intermediate Game at Maple Grove
CLASS:PUBLIC
DTSTAMP:20260421T120703Z
END:VEVENT
END:VCALENDAR