BEGIN:VCALENDAR
VERSION:2.0
PRODID:JMS Hockey
X-PUBLISHED-TTL:P1W
BEGIN:VEVENT
UID:69e7c3454f6cc
DTSTART:20151214T040000Z
SEQUENCE:0
TRANSP:OPAQUE
DTEND:20151214T053000Z
URL:http://jmshockey.com/games/8207
LOCATION:Minnehaha Academy
SUMMARY:Elite Game at Minnehaha Academy
CLASS:PUBLIC
DTSTAMP:20260421T133445Z
END:VEVENT
END:VCALENDAR