BEGIN:VCALENDAR
VERSION:2.0
PRODID:JMS Hockey
X-PUBLISHED-TTL:P1W
BEGIN:VEVENT
UID:69e7b99fe689f
DTSTART:20151214T031000Z
SEQUENCE:0
TRANSP:OPAQUE
DTEND:20151214T044000Z
URL:http://jmshockey.com/games/8199
LOCATION:Hopkins Pavilion
SUMMARY:Intermediate Game at Hopkins Pavilion
CLASS:PUBLIC
DTSTAMP:20260421T125335Z
END:VEVENT
END:VCALENDAR