BEGIN:VCALENDAR
VERSION:2.0
PRODID:JMS Hockey
X-PUBLISHED-TTL:P1W
BEGIN:VEVENT
UID:69e7a78a079d3
DTSTART:20151231T034500Z
SEQUENCE:0
TRANSP:OPAQUE
DTEND:20151231T051500Z
URL:http://jmshockey.com/games/8194
LOCATION:Cottage Grove Ice Arena
SUMMARY:Lower Level Game at Cottage Grove Ice Arena
CLASS:PUBLIC
DTSTAMP:20260421T113626Z
END:VEVENT
END:VCALENDAR