BEGIN:VCALENDAR
VERSION:2.0
PRODID:JMS Hockey
X-PUBLISHED-TTL:P1W
BEGIN:VEVENT
UID:69e79a0329ed5
DTSTART:20160204T034500Z
SEQUENCE:0
TRANSP:OPAQUE
DTEND:20160204T051500Z
URL:http://jmshockey.com/games/8193
LOCATION:Cottage Grove Ice Arena
SUMMARY:Lower Level Game at Cottage Grove Ice Arena
CLASS:PUBLIC
DTSTAMP:20260421T103843Z
END:VEVENT
END:VCALENDAR