BEGIN:VCALENDAR
VERSION:2.0
PRODID:JMS Hockey
X-PUBLISHED-TTL:P1W
BEGIN:VEVENT
UID:69e7839771b33
DTSTART:20151217T034500Z
SEQUENCE:0
TRANSP:OPAQUE
DTEND:20151217T051500Z
URL:http://jmshockey.com/games/8192
LOCATION:Cottage Grove Ice Arena
SUMMARY:Lower Level Game at Cottage Grove Ice Arena
CLASS:PUBLIC
DTSTAMP:20260421T090303Z
END:VEVENT
END:VCALENDAR