BEGIN:VCALENDAR
VERSION:2.0
PRODID:JMS Hockey
X-PUBLISHED-TTL:P1W
BEGIN:VEVENT
UID:69e79a3d54c15
DTSTART:20151223T033000Z
SEQUENCE:0
TRANSP:OPAQUE
DTEND:20151223T050000Z
URL:http://jmshockey.com/games/8166
LOCATION:Apple Valley Hayes Park Arena
SUMMARY:Lower Level Game at Apple Valley Hayes Park Arena
CLASS:PUBLIC
DTSTAMP:20260421T103941Z
END:VEVENT
END:VCALENDAR