BEGIN:VCALENDAR
VERSION:2.0
PRODID:JMS Hockey
X-PUBLISHED-TTL:P1W
BEGIN:VEVENT
UID:69e79a1e9a404
DTSTART:20151209T033000Z
SEQUENCE:0
TRANSP:OPAQUE
DTEND:20151209T050000Z
URL:http://jmshockey.com/games/8164
LOCATION:Apple Valley Sports Arena
SUMMARY:Lower Level Game at Apple Valley Sports Arena
CLASS:PUBLIC
DTSTAMP:20260421T103910Z
END:VEVENT
END:VCALENDAR