BEGIN:VCALENDAR
VERSION:2.0
PRODID:JMS Hockey
X-PUBLISHED-TTL:P1W
BEGIN:VEVENT
UID:69e7eab10d5a9
DTSTART:20151019T023000Z
SEQUENCE:0
TRANSP:OPAQUE
DTEND:20151019T040000Z
URL:http://jmshockey.com/games/8133
LOCATION:Hopkins Pavilion
SUMMARY:Lower Level Game at Hopkins Pavilion
CLASS:PUBLIC
DTSTAMP:20260421T162257Z
END:VEVENT
END:VCALENDAR