BEGIN:VCALENDAR
VERSION:2.0
PRODID:JMS Hockey
X-PUBLISHED-TTL:P1W
BEGIN:VEVENT
UID:69e7d88de874b
DTSTART:20151110T173000Z
SEQUENCE:0
TRANSP:OPAQUE
DTEND:20151110T191500Z
URL:http://jmshockey.com/games/8124
LOCATION:Eden Prairie Comm Ctr
SUMMARY:All level Game at Eden Prairie Comm Ctr
CLASS:PUBLIC
DTSTAMP:20260421T150533Z
END:VEVENT
END:VCALENDAR