BEGIN:VCALENDAR
VERSION:2.0
PRODID:JMS Hockey
X-PUBLISHED-TTL:P1W
BEGIN:VEVENT
UID:69e79f808818b
DTSTART:20151121T042000Z
SEQUENCE:0
TRANSP:OPAQUE
DTEND:20151121T055000Z
URL:http://jmshockey.com/games/8120
LOCATION:Schwan Superrink
SUMMARY:All level Game at Schwan Superrink
CLASS:PUBLIC
DTSTAMP:20260421T110208Z
END:VEVENT
END:VCALENDAR