BEGIN:VCALENDAR
VERSION:2.0
PRODID:JMS Hockey
X-PUBLISHED-TTL:P1W
BEGIN:VEVENT
UID:69e79a5ee7206
DTSTART:20151128T035000Z
SEQUENCE:0
TRANSP:OPAQUE
DTEND:20151128T052000Z
URL:http://jmshockey.com/games/8117
LOCATION:Schwan Superrink
SUMMARY:All level Game at Schwan Superrink
CLASS:PUBLIC
DTSTAMP:20260421T104014Z
END:VEVENT
END:VCALENDAR