BEGIN:VCALENDAR
VERSION:2.0
PRODID:JMS Hockey
X-PUBLISHED-TTL:P1W
BEGIN:VEVENT
UID:69e7e71cbf10d
DTSTART:20151129T024000Z
SEQUENCE:0
TRANSP:OPAQUE
DTEND:20151129T041000Z
URL:http://jmshockey.com/games/8108
LOCATION:St Thomas Ice Arena
SUMMARY:All level Game at St Thomas Ice Arena
CLASS:PUBLIC
DTSTAMP:20260421T160740Z
END:VEVENT
END:VCALENDAR