BEGIN:VCALENDAR
VERSION:2.0
PRODID:JMS Hockey
X-PUBLISHED-TTL:P1W
BEGIN:VEVENT
UID:69e787a153a46
DTSTART:20151103T025000Z
SEQUENCE:0
TRANSP:OPAQUE
DTEND:20151103T042000Z
URL:http://jmshockey.com/games/8094
LOCATION:Woodbury Bielenberg
SUMMARY:Lower Level Game at Woodbury Bielenberg
CLASS:PUBLIC
DTSTAMP:20260421T092017Z
END:VEVENT
END:VCALENDAR