BEGIN:VCALENDAR
VERSION:2.0
PRODID:JMS Hockey
X-PUBLISHED-TTL:P1W
BEGIN:VEVENT
UID:69e7e6a3cdf4b
DTSTART:20151024T020000Z
SEQUENCE:0
TRANSP:OPAQUE
DTEND:20151024T033000Z
URL:http://jmshockey.com/games/8088
LOCATION:Doug Woog Arena (Wakota)
SUMMARY:Intermediate Game at Doug Woog Arena (Wakota)
CLASS:PUBLIC
DTSTAMP:20260421T160539Z
END:VEVENT
END:VCALENDAR