BEGIN:VCALENDAR
VERSION:2.0
PRODID:JMS Hockey
X-PUBLISHED-TTL:P1W
BEGIN:VEVENT
UID:69e7b58347468
DTSTART:20151105T022000Z
SEQUENCE:0
TRANSP:OPAQUE
DTEND:20151105T035000Z
URL:http://jmshockey.com/games/8068
LOCATION:Phalen Arena
SUMMARY:Upper Level Game at Phalen Arena
CLASS:PUBLIC
DTSTAMP:20260421T123603Z
END:VEVENT
END:VCALENDAR