BEGIN:VCALENDAR
VERSION:2.0
PRODID:JMS Hockey
X-PUBLISHED-TTL:P1W
BEGIN:VEVENT
UID:69e7a36d14eee
DTSTART:20151016T010000Z
SEQUENCE:0
TRANSP:OPAQUE
DTEND:20151016T023000Z
URL:http://jmshockey.com/games/8058
LOCATION:Woodbury Bielenberg
SUMMARY:Lower Level Game at Woodbury Bielenberg
CLASS:PUBLIC
DTSTAMP:20260421T111853Z
END:VEVENT
END:VCALENDAR