BEGIN:VCALENDAR
VERSION:2.0
PRODID:JMS Hockey
X-PUBLISHED-TTL:P1W
BEGIN:VEVENT
UID:69e7879f3cd7f
DTSTART:20151027T025000Z
SEQUENCE:0
TRANSP:OPAQUE
DTEND:20151027T042000Z
URL:http://jmshockey.com/games/8039
LOCATION:Doug Woog Arena (Wakota)
SUMMARY:Lower Level Game at Doug Woog Arena (Wakota)
CLASS:PUBLIC
DTSTAMP:20260421T092015Z
END:VEVENT
END:VCALENDAR