BEGIN:VCALENDAR
VERSION:2.0
PRODID:JMS Hockey
X-PUBLISHED-TTL:P1W
BEGIN:VEVENT
UID:69e7a28cda301
DTSTART:20151010T021000Z
SEQUENCE:0
TRANSP:OPAQUE
DTEND:20151010T034000Z
URL:http://jmshockey.com/games/8024
LOCATION:Schwan Superrink
SUMMARY:All level Game at Schwan Superrink
CLASS:PUBLIC
DTSTAMP:20260421T111508Z
END:VEVENT
END:VCALENDAR