BEGIN:VCALENDAR
VERSION:2.0
PRODID:JMS Hockey
X-PUBLISHED-TTL:P1W
BEGIN:VEVENT
UID:69e7d47c0d042
DTSTART:20151016T024000Z
SEQUENCE:0
TRANSP:OPAQUE
DTEND:20151016T041000Z
URL:http://jmshockey.com/games/8018
LOCATION:St Thomas Ice Arena
SUMMARY:All level Game at St Thomas Ice Arena
CLASS:PUBLIC
DTSTAMP:20260421T144812Z
END:VEVENT
END:VCALENDAR