BEGIN:VCALENDAR
VERSION:2.0
PRODID:JMS Hockey
X-PUBLISHED-TTL:P1W
BEGIN:VEVENT
UID:69e9e823e483f
DTSTART:20151020T023000Z
SEQUENCE:0
TRANSP:OPAQUE
DTEND:20151020T040000Z
URL:http://jmshockey.com/games/8015
LOCATION:St Thomas Ice Arena
SUMMARY:Elite Game at St Thomas Ice Arena
CLASS:PUBLIC
DTSTAMP:20260423T043635Z
END:VEVENT
END:VCALENDAR