BEGIN:VCALENDAR
VERSION:2.0
PRODID:JMS Hockey
X-PUBLISHED-TTL:P1W
BEGIN:VEVENT
UID:69e7a70c4e1a2
DTSTART:20090822T004500Z
SEQUENCE:0
TRANSP:OPAQUE
DTEND:20090822T021500Z
URL:http://jmshockey.com/games/801
LOCATION:Richfield Ice Arena
SUMMARY:Level 1 Game at Richfield Ice Arena
CLASS:PUBLIC
DTSTAMP:20260421T113420Z
END:VEVENT
END:VCALENDAR