BEGIN:VCALENDAR
VERSION:2.0
PRODID:JMS Hockey
X-PUBLISHED-TTL:P1W
BEGIN:VEVENT
UID:69e79f4c4758b
DTSTART:20151024T031500Z
SEQUENCE:0
TRANSP:OPAQUE
DTEND:20151024T044500Z
URL:http://jmshockey.com/games/8005
LOCATION:Roseville Skating Center
SUMMARY:Lower Level Game at Roseville Skating Center
CLASS:PUBLIC
DTSTAMP:20260421T110116Z
END:VEVENT
END:VCALENDAR