BEGIN:VCALENDAR
VERSION:2.0
PRODID:JMS Hockey
X-PUBLISHED-TTL:P1W
BEGIN:VEVENT
UID:69e7a313e949e
DTSTART:20151205T041500Z
SEQUENCE:0
TRANSP:OPAQUE
DTEND:20151205T054500Z
URL:http://jmshockey.com/games/8003
LOCATION:Roseville Skating Center
SUMMARY:Lower Level Game at Roseville Skating Center
CLASS:PUBLIC
DTSTAMP:20260421T111723Z
END:VEVENT
END:VCALENDAR