BEGIN:VCALENDAR
VERSION:2.0
PRODID:JMS Hockey
X-PUBLISHED-TTL:P1W
BEGIN:VEVENT
UID:69e7aeb86c6ac
DTSTART:20151003T031500Z
SEQUENCE:0
TRANSP:OPAQUE
DTEND:20151003T044500Z
URL:http://jmshockey.com/games/8001
LOCATION:Roseville Skating Center
SUMMARY:Lower Level Game at Roseville Skating Center
CLASS:PUBLIC
DTSTAMP:20260421T120704Z
END:VEVENT
END:VCALENDAR